BEGIN:VCALENDAR
VERSION:2.0
PRODID:-//30x30 Solutions Toolkit - ECPv6.15.20//NONSGML v1.0//EN
CALSCALE:GREGORIAN
METHOD:PUBLISH
X-WR-CALNAME:30x30 Solutions Toolkit
X-ORIGINAL-URL:https://www.30x30.solutions
X-WR-CALDESC:Events for 30x30 Solutions Toolkit
REFRESH-INTERVAL;VALUE=DURATION:PT1H
X-Robots-Tag:noindex
X-PUBLISHED-TTL:PT1H
BEGIN:VTIMEZONE
TZID:Europe/London
BEGIN:DAYLIGHT
TZOFFSETFROM:+0000
TZOFFSETTO:+0100
TZNAME:BST
DTSTART:20230326T010000
END:DAYLIGHT
BEGIN:STANDARD
TZOFFSETFROM:+0100
TZOFFSETTO:+0000
TZNAME:GMT
DTSTART:20231029T010000
END:STANDARD
BEGIN:DAYLIGHT
TZOFFSETFROM:+0000
TZOFFSETTO:+0100
TZNAME:BST
DTSTART:20240331T010000
END:DAYLIGHT
BEGIN:STANDARD
TZOFFSETFROM:+0100
TZOFFSETTO:+0000
TZNAME:GMT
DTSTART:20241027T010000
END:STANDARD
BEGIN:DAYLIGHT
TZOFFSETFROM:+0000
TZOFFSETTO:+0100
TZNAME:BST
DTSTART:20250330T010000
END:DAYLIGHT
BEGIN:STANDARD
TZOFFSETFROM:+0100
TZOFFSETTO:+0000
TZNAME:GMT
DTSTART:20251026T010000
END:STANDARD
END:VTIMEZONE
BEGIN:VTIMEZONE
TZID:America/Guyana
BEGIN:STANDARD
TZOFFSETFROM:-0400
TZOFFSETTO:-0400
TZNAME:-04
DTSTART:20230101T000000
END:STANDARD
END:VTIMEZONE
BEGIN:VEVENT
DTSTART;VALUE=DATE:20240624
DTEND;VALUE=DATE:20240702
DTSTAMP:20260421T133614
CREATED:20240621T140603Z
LAST-MODIFIED:20240624T130902Z
UID:780-1719187200-1719878399@www.30x30.solutions
SUMMARY:“Reporting protected area data to Protected Planet”
DESCRIPTION:“Reporting protected area data to Protected Planet” \nhttps://www.30x30.solutions/wp-content/uploads/2024/06/Reporting_data_to_WDPA.mp4\n  \nThe video offers practical step-by-step guidance on how a country can update its national dataset. It also provides clear solution under different scenarios: only tabular changes are needed\, if changes to spatial data are needed or if protected areas are missing.
URL:https://www.30x30.solutions/event/reporting-protected-area-data-to-protected-planet/
END:VEVENT
BEGIN:VEVENT
DTSTART;VALUE=DATE:20240513
DTEND;VALUE=DATE:20240519
DTSTAMP:20260421T133614
CREATED:20240408T203448Z
LAST-MODIFIED:20250121T181028Z
UID:728-1715558400-1716076799@www.30x30.solutions
SUMMARY:SBSTTA 26
DESCRIPTION:The 26th meeting of the Subsidiary Body on Scientific\, Technical and Technological Advice (SBSTTA) of the Convention on Biological Diversity (CBD) will take place in May 2024.
URL:https://www.30x30.solutions/event/sbstta-26/
END:VEVENT
BEGIN:VEVENT
DTSTART;VALUE=DATE:20240416
DTEND;VALUE=DATE:20240420
DTSTAMP:20260421T133614
CREATED:20240408T202510Z
LAST-MODIFIED:20240408T202510Z
UID:717-1713225600-1713571199@www.30x30.solutions
SUMMARY:Sub-Regional Workshop on Target 3 of the Kunming-Montreal Global Biodiversity Framework for the Caribbean Countries
DESCRIPTION:The CBD Secretariat is hosting a Workshop on Target 3 for Caribbean region. The HAC for N&P will host a session to introduce its work and train countries to achieve Target 3 through innovative tools like the 30×30 Solutions Toolkit and the 30×30 Matchmaking Platform. \n\n\n\n\n\n 
URL:https://www.30x30.solutions/event/sub-regional-workshop-on-target-3-of-the-kunming-montreal-global-biodiversity-framework-for-the-caribbean-countries/
END:VEVENT
BEGIN:VEVENT
DTSTART;VALUE=DATE:20240415
DTEND;VALUE=DATE:20240418
DTSTAMP:20260421T133614
CREATED:20240408T203155Z
LAST-MODIFIED:20240408T203155Z
UID:725-1713139200-1713398399@www.30x30.solutions
SUMMARY:Our Ocean Conference
DESCRIPTION:The goal of the Our Ocean Conference is to foster collaborative efforts and encourage the submission of clear and measurable voluntary commitments anchored in the six Areas of Action (Marine Protected Areas\, Sustainable Blue Economies\, Climate Change\, Maritime Security\, Sustainable Fisheries\, Marine Pollution)\, aiming at the protection and sustainable management of our seas and oceans and their resources.
URL:https://www.30x30.solutions/event/our-ocean-conference/
END:VEVENT
BEGIN:VEVENT
DTSTART;TZID=Europe/London:20240124T080000
DTEND;TZID=Europe/London:20240124T093000
DTSTAMP:20260421T133614
CREATED:20240215T160742Z
LAST-MODIFIED:20240220T094548Z
UID:604-1706083200-1706088600@www.30x30.solutions
SUMMARY:Navigating the Seas of Effective Ocean Conservation with OECMs
DESCRIPTION:Dive into the fascinating world of Marine Other Effective Area-based Conservation Measures (OECMs) with our upcoming webinar\, “Navigating the Seas of Effective Ocean Conservation with OECMs.” Join us as we embark on a virtual journey to uncover the significance and potential of these often-overlooked conservation tools in safeguarding our oceans. \nOur expert panel of marine conservationists and researchers will shed light on the concept of OECMs\, showcasing real-world examples of successful initiatives that have proven effective in preserving biodiversity\, enhancing ecosystem resilience\, and promoting sustainable fisheries. \nAccess to the Spanish and French Translation can be found here with the password: Dyx1u21C05
URL:https://www.30x30.solutions/event/navigating-the-seas-of-effective-ocean-conservation-with-oecms/
END:VEVENT
END:VCALENDAR